BEGIN:VCALENDAR
VERSION:2.0
PRODID:-//ChamberMaster//Event Calendar 2.0//EN
METHOD:PUBLISH
X-PUBLISHED-TTL:P3D
REFRESH-INTERVAL:P3D
CALSCALE:GREGORIAN
BEGIN:VEVENT
DTSTART:20210622T160000Z
DTEND:20210622T170000Z
X-MICROSOFT-CDO-ALLDAYEVENT:FALSE
SUMMARY:Connecions Networking III
DESCRIPTION:
X-ALT-DESC;FMTTYPE=text/html:
LOCATION:Coppertop Golf Club
UID:e.160.2881
SEQUENCE:3
DTSTAMP:20260420T051409Z
URL:https://members.nmccalliance.com/events/details/connecions-networking-iii-2881
END:VEVENT

END:VCALENDAR
