BEGIN:VCALENDAR
VERSION:2.0
PRODID:-//ChamberMaster//Event Calendar 2.0//EN
METHOD:PUBLISH
X-PUBLISHED-TTL:P3D
REFRESH-INTERVAL:P3D
CALSCALE:GREGORIAN
BEGIN:VEVENT
DTSTART:20260325T120000Z
DTEND:20260325T130000Z
X-MICROSOFT-CDO-ALLDAYEVENT:FALSE
SUMMARY:Connections Networking Group I
DESCRIPTION:Increase your referral base by making a commitment to promotional marketing through our Connections Networking Groups. These groups are designed to allow for one business type per industry per group.\n\n\n\nThe Connections 1 Group meets the FOURTH Weds. of the month at Proximity Marketing the "PROX Bar" \n\n\n\nFor more information and to find out if you are eligible to be a part of this fast growing networking group  please contact Sarah Cripps  sarahc.ofcc@gmail.com
X-ALT-DESC;FMTTYPE=text/html:<span style="font-family:verdana\;">Increase your referral base by making a commitment to promotional marketing through our Connections Networking Groups. These groups are designed to allow for one business type per industry per group.<br />\n<br />\nThe Connections 1 Group meets the FOURTH Weds. of the month at Proximity Marketing the &quot\;PROX Bar&quot\;&nbsp\;<br />\n<br />\nFor more information and to find out if you are eligible to be a part of this fast growing networking group&nbsp\; please contact Sarah Cripps&nbsp\;&nbsp\;<span style="font-size:14px\;"><span style="color:#0000CD\;">sarahc.ofcc@gmail.com</span></span></span>
LOCATION:Proximity Marketing 2947 Interstate Parkway Brunswick\, OH 44212
UID:e.160.3325
SEQUENCE:3
DTSTAMP:20260420T085258Z
URL:https://members.nmccalliance.com/events/details/connections-networking-group-i-03-25-2026-3325
END:VEVENT

END:VCALENDAR
