BEGIN:VCALENDAR
VERSION:2.0
PRODID:-//ChamberMaster//Event Calendar 2.0//EN
METHOD:PUBLISH
X-PUBLISHED-TTL:P3D
REFRESH-INTERVAL:P3D
CALSCALE:GREGORIAN
BEGIN:VEVENT
DTSTART:20220105T140000Z
DTEND:20220105T150000Z
X-MICROSOFT-CDO-ALLDAYEVENT:FALSE
SUMMARY:Connections Networking Group II
DESCRIPTION:Increase your referral base by making a commitment to promotional marketing through our Connections Networking Groups. These groups are designed to allow for one business type per industry per group.  For more information please contact Tricia Peacey\, Farmers Insurance at tpeacey@farmersagent.com
X-ALT-DESC;FMTTYPE=text/html:<span style="color: rgb(51\, 51\, 51)\; font-family: sans-serif\, Arial\, Verdana\, &quot\;Trebuchet MS&quot\;\; font-size: 13px\; background-color: rgb(255\, 255\, 255)\;">Increase your referral base by making a commitment to promotional marketing through our Connections Networking Groups. These groups are designed to allow for one business type per industry per group.&nbsp\; For more information please&nbsp\;</span><span style="color: rgb(51\, 51\, 51)\; font-family: sans-serif\, Arial\, Verdana\, &quot\;Trebuchet MS&quot\;\; font-size: 13px\; background-color: rgb(255\, 255\, 255)\;">contact Tricia Peacey\, Farmers Insurance at tpeacey@farmersagent.com</span>
LOCATION:Peacey Agency 6677 Center Rd.\, Unit E Valley City\, OH 44280
UID:e.160.2742
SEQUENCE:3
DTSTAMP:20260420T032918Z
URL:https://members.nmccalliance.com/events/details/connections-networking-group-ii-01-05-2022-2742
END:VEVENT

END:VCALENDAR
