BEGIN:VCALENDAR
VERSION:2.0
PRODID:-//ChamberMaster//Event Calendar 2.0//EN
METHOD:PUBLISH
X-PUBLISHED-TTL:P3D
REFRESH-INTERVAL:P3D
CALSCALE:GREGORIAN
BEGIN:VEVENT
DTSTART:20231114T160000Z
DTEND:20231114T170000Z
X-MICROSOFT-CDO-ALLDAYEVENT:FALSE
SUMMARY:Connections Networking IIII
DESCRIPTION:Our newest Connections Group -  Increase your referral base by making a commitment to promotional marketing through our Connections Networking Groups. These groups are designed to allow for one business type per industry per group.  For more information please contact Christie Jackson at MDG Flooring\, cjackson@mdgflooring.com
X-ALT-DESC;FMTTYPE=text/html:Our newest Connections Group -&nbsp\; Increase your referral base by making a commitment to promotional marketing through our Connections Networking Groups. These groups are designed to allow for one business type per industry per group.&nbsp\; For more information please&nbsp\;contact Christie Jackson at MDG Flooring\, cjackson@mdgflooring.com
LOCATION:The Tangled Vine 3511 Center Rd. Brunswick\, OH 44212
UID:e.160.2983
SEQUENCE:3
DTSTAMP:20260420T175906Z
URL:https://members.nmccalliance.com/events/details/connections-networking-iiii-11-14-2023-2983
END:VEVENT

END:VCALENDAR
