BEGIN:VCALENDAR
VERSION:2.0
PRODID:-//ChamberMaster//Event Calendar 2.0//EN
METHOD:PUBLISH
X-PUBLISHED-TTL:P3D
REFRESH-INTERVAL:P3D
CALSCALE:GREGORIAN
BEGIN:VEVENT
DTSTART:20130427T140000Z
DTEND:20130427T230000Z
X-MICROSOFT-CDO-ALLDAYEVENT:FALSE
SUMMARY:Corder Jewelery Re-Styling Event
DESCRIPTION:
X-ALT-DESC;FMTTYPE=text/html:
LOCATION:
UID:e.160.1833
SEQUENCE:3
DTSTAMP:20260422T062309Z
URL:https://members.nmccalliance.com/events/details/corder-jewelery-re-styling-event-04-27-2013-1833
END:VEVENT

END:VCALENDAR
