BEGIN:VCALENDAR
VERSION:2.0
PRODID:-//ChamberMaster//Event Calendar 2.0//EN
METHOD:PUBLISH
X-PUBLISHED-TTL:P3D
REFRESH-INTERVAL:P3D
CALSCALE:GREGORIAN
BEGIN:VEVENT
DTSTART:20131019T140000Z
DTEND:20131019T230000Z
X-MICROSOFT-CDO-ALLDAYEVENT:FALSE
SUMMARY:Corder's Jewelers\, 2nd Year Anniversary Sale and FREE Diamond Treasure Hunt
DESCRIPTION:Corder's Jewelers is SOOOOOO excited to announce our 2nd Year Anniversary Sale and FREE Diamond Treasure Hunt. We want to say thank-you to our community and our loyal customers for supporting us for the last two years.\n\n	\n\n	On October 19th Sweetest Day\, from 10am to 7pm we will have our HUGE 2nd Year Anniversary Sale and FREE Diamond Treasure Hunt.  Everything in the store will be discounted 25-75% off\, Engagement Rings and Bridal Sets\, Earrings\, Pendants\, Bracelets and even our newest and hottest Christmas pieces. White\, Yellow and Rose Gold with or without Diamonds or Gemstones and all at discounted prices.\n\n	\n\n	Our FREE Diamond Treasure Hunt is such a fun event for the whole family but you must R.S.V.P.\, (330) 225-5757. We will have music\, BBQ and FREE give-a-ways\,and a live jewelry auction.   Don't miss out and mark it down on your calendar.  Corder's Jewelers\, where your dreams come true.
X-ALT-DESC;FMTTYPE=text/html:<div class="text_exposed_root text_exposed" id="id_524b20bb1199d2e40469599">\n	Corder&#39\;s Jewelers is SOOOOOO excited to announce our 2nd Year Anniversary Sale and FREE Diamond Treasure Hunt. We want to say thank-you to our community and our loyal customers for supporting us for the last two years.<br />\n	<br />\n	On October 19th Sweetest<span class="text_exposed_show"> Day\, from 10am to 7pm we will have our HUGE 2nd Year Anniversary Sale and FREE Diamond Treasure Hunt.&nbsp\; Everything in the store will be discounted 25-75% off\, Engagement Rings and Bridal Sets\, Earrings\, Pendants\, Bracelets and even our newest and hottest Christmas pieces. White\, Yellow and Rose Gold with or without Diamonds or Gemstones and all at discounted prices.<br />\n	<br />\n	Our FREE Diamond Treasure Hunt is such a fun event for the whole family but you must R.S.V.P.\, (330) 225-5757. We will have music\, BBQ and FREE give-a-ways\,and a live jewelry auction. &nbsp\; Don&#39\;t miss out and mark it down on your calendar.</span>&nbsp\; Corder&#39\;s Jewelers\, where your dreams come true.</div>\n
LOCATION:3841 Center Road\, Brunswick Ohio
UID:e.160.1998
SEQUENCE:3
DTSTAMP:20260421T202214Z
URL:https://members.nmccalliance.com/events/details/corder-s-jewelers-2nd-year-anniversary-sale-and-free-diamond-treasure-hunt-10-19-2013-1998
END:VEVENT

END:VCALENDAR
