BEGIN:VCALENDAR
VERSION:2.0
PRODID:-//ChamberMaster//Event Calendar 2.0//EN
METHOD:PUBLISH
X-PUBLISHED-TTL:P3D
REFRESH-INTERVAL:P3D
CALSCALE:GREGORIAN
BEGIN:VEVENT
DTSTART;VALUE=DATE:20090926
DTEND;VALUE=DATE:20090927
TRANSP:TRANSPARENT
X-MICROSOFT-CDO-ALLDAYEVENT:TRUE
SUMMARY:Cornhole Classic
DESCRIPTION:Open to All!  Brunswick Area Chamber of CommerceSecond AnnualCornhole Classic & Classic JuniorSeptember 26\, 2009will be held atThe German-American Business Center3511 Center Road Registration/Check-In:  8:00 AM Tournament:  9:00 AM     Registration forms available through the Chamber office & Chamber website www.brunswickareachamber.org (scrolling news)
X-ALT-DESC;FMTTYPE=text/html:<div align="center"><font size="4">Open to All!&nbsp\; </font></div><div align="center"><font size="4">Brunswick Area Chamber of Commerce</font></div><div align="center"><font size="4"><strong>Second Annual</strong></font></div><div align="center"><font size="4"><strong>Cornhole Classic &amp\; Classic Junior</strong></font></div><div align="center"><font size="4">September 26\, 2009</font></div><div align="center">will be held at</div><div align="center">The German-American Business Center</div><div align="center">3511 Center Road</div><div align="center">&nbsp\;</div><div align="center">Registration/Check-In:&nbsp\; 8:00 AM</div><div align="center">&nbsp\;Tournament:&nbsp\; 9:00 AM&nbsp\;&nbsp\;</div><div align="center">&nbsp\;</div><div align="center">&nbsp\;</div><div align="center">&nbsp\;</div><div align="center">Registration forms available through the Chamber office &amp\; Chamber website <a href="http://www.brunswickareachamber.org">www.brunswickareachamber.org</a> (scrolling news)</div>
LOCATION:German-American Business Center3511 Center RoadBrunswick\, OH 44212
UID:e.160.775
SEQUENCE:3
DTSTAMP:20260425T154021Z
URL:https://members.nmccalliance.com/events/details/cornhole-classic-09-26-2009-775
END:VEVENT

END:VCALENDAR
