BEGIN:VCALENDAR
VERSION:2.0
PRODID:-//ChamberMaster//Event Calendar 2.0//EN
METHOD:PUBLISH
X-PUBLISHED-TTL:P3D
REFRESH-INTERVAL:P3D
CALSCALE:GREGORIAN
BEGIN:VEVENT
DTSTART:20090910T210000Z
DTEND:20090910T230000Z
X-MICROSOFT-CDO-ALLDAYEVENT:FALSE
SUMMARY:Countywide Business after Business
DESCRIPTION:
X-ALT-DESC;FMTTYPE=text/html:
LOCATION:Medina County University Center - MCUC6300 Technology LaneMedina\, OH
UID:e.160.772
SEQUENCE:3
DTSTAMP:20260425T154718Z
URL:https://members.nmccalliance.com/events/details/countywide-business-after-business-09-10-2009-772
END:VEVENT

END:VCALENDAR
