BEGIN:VCALENDAR
VERSION:2.0
PRODID:-//ChamberMaster//Event Calendar 2.0//EN
METHOD:PUBLISH
X-PUBLISHED-TTL:P3D
REFRESH-INTERVAL:P3D
CALSCALE:GREGORIAN
BEGIN:VEVENT
DTSTART:20120412T210000Z
DTEND:20120412T230000Z
X-MICROSOFT-CDO-ALLDAYEVENT:FALSE
SUMMARY:Countywide Business after Business - April 2012
DESCRIPTION:This event is open to all members of the following chambers:\n\n	Brunswick Area Chamber\n\n	Greater Medina Chamber\n\n	Wadsworth Chamber\n\n	\n\n	Appetizers and drinks will be provided by Hospice of Medina County\n\n	\n\n	Come ready to network with other businesses from around Medina County!\n\n	\n\n	Event is FREE to attend!\n\n	\n\n	Time: 5-7pm\n\n	Date: Thursday\, April 12\n\n	\n\n	Location:\n\n	Hospice of Medina County\n\n	5075 Windfall Road\, Medina
X-ALT-DESC;FMTTYPE=text/html:<p style="text-align: center\; ">\n	<span style="font-size:14px\;">This event is open to all members of the following chambers:<br />\n	Brunswick Area Chamber<br />\n	Greater Medina Chamber<br />\n	Wadsworth Chamber<br />\n	<br />\n	Appetizers and drinks will be provided by Hospice of Medina County<br />\n	<br />\n	Come ready to network with other businesses from around Medina County!<br />\n	<br />\n	<strong>Event is FREE to attend!</strong><br />\n	<br />\n	Time: 5-7pm<br />\n	Date: Thursday\, April 12<br />\n	<br />\n	Location:<br />\n	Hospice of Medina County<br />\n	5075 Windfall Road\, Medina</span></p>\n
LOCATION:Hospice of Medina County 5075 Windfall Road Medina\, OH 44256
UID:e.160.1726
SEQUENCE:3
DTSTAMP:20260423T015611Z
URL:https://members.nmccalliance.com/events/details/countywide-business-after-business-april-2012-04-12-2012-1726
END:VEVENT

END:VCALENDAR
