BEGIN:VCALENDAR
VERSION:2.0
PRODID:-//ChamberMaster//Event Calendar 2.0//EN
METHOD:PUBLISH
X-PUBLISHED-TTL:P3D
REFRESH-INTERVAL:P3D
CALSCALE:GREGORIAN
BEGIN:VEVENT
DTSTART:20131220T130000Z
DTEND:20131220T143000Z
X-MICROSOFT-CDO-ALLDAYEVENT:FALSE
SUMMARY:December 2013 Coffee with the Membership
DESCRIPTION:This event is FREE to the membership and it is a way for people to get to know one another on a more personal level.  Claus Meyer from Raymond James starts each session with a topic and the conversation just goes from there ...
X-ALT-DESC;FMTTYPE=text/html:This event is FREE to the membership and it is a way for people to get to know one another on a more personal level. &nbsp\;Claus Meyer from Raymond James starts each session with a topic and the conversation just goes from there ...
LOCATION:Buehler's Fresh Foods Center Road
UID:e.160.1984
SEQUENCE:3
DTSTAMP:20260421T170624Z
URL:https://members.nmccalliance.com/events/details/december-2013-coffee-with-the-membership-12-20-2013-1984
END:VEVENT

END:VCALENDAR
