BEGIN:VCALENDAR
VERSION:2.0
PRODID:-//ChamberMaster//Event Calendar 2.0//EN
METHOD:PUBLISH
X-PUBLISHED-TTL:P3D
REFRESH-INTERVAL:P3D
CALSCALE:GREGORIAN
BEGIN:VEVENT
DTSTART:20130427T140000Z
DTEND:20130427T230000Z
X-MICROSOFT-CDO-ALLDAYEVENT:FALSE
SUMMARY:Diamond Restyling Event
DESCRIPTION:Were getting close!!!!! Our Restyle event is this Saturday\, April 27th from 10am to 7pm. Hurry and call us to schedule your appointment slot\, don't forget you can schedule a pre appointment to make sure we get you the best prices around!!! We will have TONS of loose diamonds\, colored diamonds and gemstones. Dig into your jewelry box and pull out the things you don't wear anymore\, now is the time to give all your older pieces a modern look. Remember ladies jewelry is meant to be worn!!! Call us 330-225-5757\, visit our website at www.cordersjewelers.com or just stop in! Corder's Jewelers\, where your dreams come true!
X-ALT-DESC;FMTTYPE=text/html:<span class="userContent" data-ft="{&quot\;tn&quot\;:&quot\;K&quot\;}">Were getting close!!!!! Our Restyle event is this Saturday\, April 27th from 10am to 7pm. Hurry and call us to schedule your appointment slot\, don&#39\;t forget you can schedule a pre appointment to make sure we get you the best prices around!!! We will have TONS of loose diamonds\, colored diamonds and gemstones. Dig into your jewelry box and pull out the things you don&#39\;t wear anymore\, now is the time to give all your older pieces a modern look. Remember ladies jewelry is meant to be worn!!! Call us 330-225-5757\, visit our website at <a href="http://www.cordersjewelers.com/" rel="nofollow nofollow" target="_blank">www.cordersjewelers.com</a> or just stop in! Corder&#39\;s Jewelers\, where your dreams come true!</span>
LOCATION:3841 Center Road\, Brunswick Ohio 44212
UID:e.160.1832
SEQUENCE:3
DTSTAMP:20260422T062851Z
URL:https://members.nmccalliance.com/events/details/diamond-restyling-event-04-27-2013-1832
END:VEVENT

END:VCALENDAR
