BEGIN:VCALENDAR
VERSION:2.0
PRODID:-//ChamberMaster//Event Calendar 2.0//EN
METHOD:PUBLISH
X-PUBLISHED-TTL:P3D
REFRESH-INTERVAL:P3D
CALSCALE:GREGORIAN
BEGIN:VEVENT
DTSTART:20110803T123000Z
DTEND:20110803T143000Z
X-MICROSOFT-CDO-ALLDAYEVENT:FALSE
SUMMARY:Educational Seminar - August 2011
DESCRIPTION:The Brunswick Area Chamber of Commerce and the Council of Smaller Enterprises (COSE) will be providing four educational seminars throughout the year for our members. \n\n\n\nSubject:  Maximize your Social Media Marketing\n\n\n\nSpace is limited\, so sign up today!
X-ALT-DESC;FMTTYPE=text/html:The Brunswick Area Chamber of Commerce and the Council of Smaller Enterprises (COSE) will be providing four educational seminars throughout the year for our members.&nbsp\;<br />\n<br />\nSubject:&nbsp\; Maximize your Social Media Marketing<br />\n<br />\nSpace is limited\, so sign up today!
LOCATION:The Brunswick Area Chamber Office / COSE Business Space 1434 Town Center Blvd. Ste. C50 Brunswick\, OH 44212
UID:e.160.1634
SEQUENCE:3
DTSTAMP:20260420T071650Z
URL:https://members.nmccalliance.com/events/details/educational-seminar-august-2011-08-03-2011-1634
END:VEVENT

END:VCALENDAR
