BEGIN:VCALENDAR
VERSION:2.0
PRODID:-//ChamberMaster//Event Calendar 2.0//EN
METHOD:PUBLISH
X-PUBLISHED-TTL:P3D
REFRESH-INTERVAL:P3D
CALSCALE:GREGORIAN
BEGIN:VEVENT
DTSTART:20120801T123000Z
DTEND:20120801T142500Z
X-MICROSOFT-CDO-ALLDAYEVENT:FALSE
SUMMARY:Educational Seminar - August 2012
DESCRIPTION:Get Your Business on YouTube\,\n\n	You Can't Afford Not to!\n\n	\n\n	Video is quickly becoming a popular and creative way to get your message out to current and potential customers. Learn how to take action and post content on YouTube including WHY it's beneficial to be on YouTube in this interactive session.\n\n	\n\n	Speaker: Kelley Hynds of Hyndsight Productions
X-ALT-DESC;FMTTYPE=text/html:<div style="text-align: center\; ">\n	<br />\n	<strong><span style="font-size:14px\;"><span style="font-size:16px\;">Get Your Business on YouTube\,<br />\n	You Can&#39\;t Afford Not to!</span></span></strong><br />\n	<br />\n	<span style="font-size:14px\;">Video is quickly becoming a popular and creative way to get your message out to current and potential customers. Learn how to take action and post content on YouTube including WHY it&#39\;s beneficial to be on YouTube in this interactive session.<br />\n	<br />\n	Speaker: Kelley Hynds of Hyndsight Productions</span></div>\n
LOCATION:BACC Office/COSE Business Space 1434 Town Center Blvd. C50 Brunswick\, OH 44212
UID:e.160.1748
SEQUENCE:3
DTSTAMP:20260422T191436Z
URL:https://members.nmccalliance.com/events/details/educational-seminar-august-2012-08-01-2012-1748
END:VEVENT

END:VCALENDAR
