BEGIN:VCALENDAR
VERSION:2.0
PRODID:-//ChamberMaster//Event Calendar 2.0//EN
METHOD:PUBLISH
X-PUBLISHED-TTL:P3D
REFRESH-INTERVAL:P3D
CALSCALE:GREGORIAN
BEGIN:VEVENT
DTSTART:20120201T133000Z
DTEND:20120201T153000Z
X-MICROSOFT-CDO-ALLDAYEVENT:FALSE
SUMMARY:Educational Seminar - February 2012
DESCRIPTION:The workshop will provide an overview of this new technology environment - why the tablet is the future. Learn how the "cloud" fits in and how it enhances device capabilities. This session will help you get started reviewing strategies for implementation and ensuring success!\n\n\n\nSpeaker: Don Tomoff of Thornhill Financial\, Inc.
X-ALT-DESC;FMTTYPE=text/html:The workshop will provide an overview of this new technology environment - why the tablet is the future. Learn how the &quot\;cloud&quot\; fits in and how it enhances device capabilities. This session will help you get started reviewing strategies for implementation and ensuring success!<br />\n<br />\nSpeaker: Don Tomoff of Thornhill Financial\, Inc.
LOCATION:The Brunswick Area Chamber Office / COSE Business Space 1434 Town Center Blvd. Ste. C50 Brunswick\, OH 44212
UID:e.160.1703
SEQUENCE:3
DTSTAMP:20260423T051517Z
URL:https://members.nmccalliance.com/events/details/educational-seminar-february-2012-02-01-2012-1703
END:VEVENT

END:VCALENDAR
