BEGIN:VCALENDAR
VERSION:2.0
PRODID:-//ChamberMaster//Event Calendar 2.0//EN
METHOD:PUBLISH
X-PUBLISHED-TTL:P3D
REFRESH-INTERVAL:P3D
CALSCALE:GREGORIAN
BEGIN:VEVENT
DTSTART:20110601T120000Z
DTEND:20110601T140000Z
X-MICROSOFT-CDO-ALLDAYEVENT:FALSE
SUMMARY:Educational Seminar - June 2011
DESCRIPTION:The Brunswick Area Chamber of Commerce and the Council of Smaller Enterprises (COSE) will be providing four educational seminars throughout the year for our members. \n\n\n\nSubject:  Marketing on a Shoestring Budget\n\n\n\nSpace is limited\, so sign up today!\n\n\n\nThank you for your interest\, but this event has been CANCELED.
X-ALT-DESC;FMTTYPE=text/html:The Brunswick Area Chamber of Commerce and the Council of Smaller Enterprises (COSE) will be providing four educational seminars throughout the year for our members.&nbsp\;<br />\n<br />\nSubject:&nbsp\; Marketing on a Shoestring Budget<br />\n<br />\nSpace is limited\, so sign up today!<br />\n<br />\n<span style="font-size: 14px"><strong>Thank you for your interest\, but this event has been <span style="color: #ff0000">CANCELED</span></strong></span>.
LOCATION:The Brunswick Area Chamber Office / COSE Business Space 1434 Town Center Blvd. Ste. C50 Brunswick\, OH 44212
UID:e.160.1627
SEQUENCE:3
DTSTAMP:20260423T184744Z
URL:https://members.nmccalliance.com/events/details/educational-seminar-june-2011-06-01-2011-1627
END:VEVENT

END:VCALENDAR
