BEGIN:VCALENDAR
VERSION:2.0
PRODID:-//ChamberMaster//Event Calendar 2.0//EN
METHOD:PUBLISH
X-PUBLISHED-TTL:P3D
REFRESH-INTERVAL:P3D
CALSCALE:GREGORIAN
BEGIN:VEVENT
DTSTART:20120502T123000Z
DTEND:20120502T143000Z
X-MICROSOFT-CDO-ALLDAYEVENT:FALSE
SUMMARY:Educational Seminar - May 2012
DESCRIPTION:Join the Brunswick Area Chamber of Commerce and COSE for an educational session to help you understand how to incorporate fitness into your everyday work schedule. Dr. Dhia Aldoori of the Cleveland Clinic will be on hand to discuss how to exercise at your desk\, how to promote a healthier lifestyle in the workplace and how to get the employees up and moving! Dr. Aldoori will also share some healthy eating tips and choices for lunch and snacking at the office. This interactive session will kick start your summer and get your workplace on the right track to fitness. Click HERE to check out Dr. Aldoori's blog on the Pillars of Health. Seating is limited so register soon!
X-ALT-DESC;FMTTYPE=text/html:<span style="font-family: Arial\, Verdana\, Helvetica\, sans-serif\; ">Join the Brunswick Area Chamber of Commerce and COSE for an educational session to help you understand how to incorporate fitness into your everyday work schedule. Dr. Dhia Aldoori of the Cleveland Clinic will be on hand to discuss how to exercise at your desk\, how to promote a healthier lifestyle in the workplace and how to get the employees up and moving! Dr. Aldoori will also share some healthy eating tips and choices for lunch and snacking at the office. This interactive session will kick start your summer and get your workplace on the right track to fitness. Click&nbsp\;</span><a href="http://thepillarsofhealth.blogspot.com/2008/04/contents.html" style="margin-top: 0px\; margin-right: 0px\; margin-bottom: 0px\; margin-left: 0px\; padding-top: 0px\; padding-right: 0px\; padding-bottom: 0px\; padding-left: 0px\; color: rgb(88\, 89\, 91)\; font-family: Arial\, Verdana\, Helvetica\, sans-serif\; " target="_blank">HERE</a><span style="font-family: Arial\, Verdana\, Helvetica\, sans-serif\; ">&nbsp\;to check out Dr. Aldoori&rsquo\;s blog on the Pillars of Health. Seating is limited so register soon!&nbsp\;</span>
LOCATION:Cleveland Clinic - Brunswick Family Health Center 3574 Center Rd. Brunswick\, OH 44212
UID:e.160.1729
SEQUENCE:3
DTSTAMP:20260420T102829Z
URL:https://members.nmccalliance.com/events/details/educational-seminar-may-2012-05-02-2012-1729
END:VEVENT

END:VCALENDAR
