BEGIN:VCALENDAR
VERSION:2.0
PRODID:-//ChamberMaster//Event Calendar 2.0//EN
METHOD:PUBLISH
X-PUBLISHED-TTL:P3D
REFRESH-INTERVAL:P3D
CALSCALE:GREGORIAN
BEGIN:VEVENT
DTSTART;VALUE=DATE:20120428
DTEND;VALUE=DATE:20120429
TRANSP:TRANSPARENT
X-MICROSOFT-CDO-ALLDAYEVENT:TRUE
SUMMARY:Event at Corder's Jewelers
DESCRIPTION:Don't miss our Diamond Treasure Hunt\, April 28th\, 8:30 to 9:30am. Corder's Jewelers has teamed up with Task Master's Concierge and other local business' to host this FREE fun filled event. This will be one full hour before our HUGE Restyling Sale. Diamonds will be given away as first prize. The clues for where the diamonds are will be hidden within one mile of Corder's Jewelers Business\, 3841 Center Road\, Brunswick Ohio. Bring out your detective skills and come have some fun finding diamonds. Registration is required and entries are limited so call Corder's Jewelers now\, 330.225.5757\, before all of the spots are filled.\n\nwww.cordersjewelers.com
X-ALT-DESC;FMTTYPE=text/html:Don&#39\;t miss our Diamond Treasure Hunt\, April 28th\, 8:30 to 9:30am. Corder&#39\;s Jewelers has teamed up with Task Master&#39\;s Concierge and other local business&#39\; to host this FREE fun filled event. This will be one full hour before our HUGE Restyling Sale. Diamonds will be given away as first prize. The clues for where the diamonds are will be hidden within one mile of Corder&#39\;s Jewelers Business\, 3841 Center Road\, Brunswick Ohio. Bring out your detective skills and come have some fun finding diamonds. Registration is required and entries are limited so call Corder&#39\;s Jewelers now\, 330.225.5757\, before all of the spots are filled.<br />\nwww.cordersjewelers.com 
LOCATION:3841 Center Road\, Brunswick Ohio
UID:e.160.1738
SEQUENCE:3
DTSTAMP:20260423T033206Z
URL:https://members.nmccalliance.com/events/details/event-at-corder-s-jewelers-04-28-2012-1738
END:VEVENT

END:VCALENDAR
