BEGIN:VCALENDAR
VERSION:2.0
PRODID:-//ChamberMaster//Event Calendar 2.0//EN
METHOD:PUBLISH
X-PUBLISHED-TTL:P3D
REFRESH-INTERVAL:P3D
CALSCALE:GREGORIAN
BEGIN:VEVENT
DTSTART;VALUE=DATE:20120504
DTEND;VALUE=DATE:20120508
TRANSP:TRANSPARENT
X-MICROSOFT-CDO-ALLDAYEVENT:TRUE
SUMMARY:Event at Corder's Jewelers
DESCRIPTION:Corder's Jewelers will be having their Mother's Day weekend sale\, May 4th\, 5th and 6th from 10am to 7pm.  Show MOM you love her by purchasing a sparking new diamond or gemstone mother's ring\, earrings or necklace.  Or replace the diamond or gemstone that has fallen out of her jewelry.  Corder's Jewelers on-site repair department can complete most repairs the same day or while you wait.  Everything in the store will be discounted 20 to 60% off.  Don't forget to bring in your unwanted gold or silver and either receive its cash value or use it as trade.  Visit our website at www.cordersjewelers.com for more details.
X-ALT-DESC;FMTTYPE=text/html:Corder&#39\;s Jewelers will be having their Mother&#39\;s Day weekend sale\, May 4th\, 5th and 6th from 10am to 7pm.&nbsp\; Show MOM you love her by purchasing a sparking new diamond or gemstone mother&#39\;s ring\, earrings or necklace.&nbsp\; Or replace the diamond or gemstone that&nbsp\;has fallen out of her jewelry.&nbsp\;&nbsp\;Corder&#39\;s Jewelers on-site repair department can complete most repairs the same day or while you wait.&nbsp\; Everything in the store will be discounted 20 to 60% off.&nbsp\; Don&#39\;t forget to bring in your unwanted gold or silver and either receive its cash value or use it as trade.&nbsp\; Visit&nbsp\;our website at <a href="http://www.cordersjewelers.com">www.cordersjewelers.com</a> for more details.&nbsp\; 
LOCATION:3841 Center Road\, Brunswick\, at the corner of Hadcock and Center Road\, next to the Enterprise Car Rental.
UID:e.160.1746
SEQUENCE:3
DTSTAMP:20260423T001711Z
URL:https://members.nmccalliance.com/events/details/event-at-corder-s-jewelers-05-04-2012-1746
END:VEVENT

END:VCALENDAR
