BEGIN:VCALENDAR
VERSION:2.0
PRODID:-//ChamberMaster//Event Calendar 2.0//EN
METHOD:PUBLISH
X-PUBLISHED-TTL:P3D
REFRESH-INTERVAL:P3D
CALSCALE:GREGORIAN
BEGIN:VEVENT
DTSTART:20110212T190000Z
DTEND:20110212T223000Z
X-MICROSOFT-CDO-ALLDAYEVENT:FALSE
SUMMARY:Event at HealthSource Chiropractic and Progressive Rehab
DESCRIPTION:Are you suffering from any severe Neurolgical Problems like:\n\nFibromyalgia\, MS\, Failed Back/Neck Surgies\, Headache (Migraines)\, Numbness\, Burning\, Digestive Problems\, Nervousness\, Anxiety or any Chronic Intractable Pain?\n\nThis seminar may be able to help you get rid of your pain once and for all!\n\nPresented on behalf of the non-profit group The Foundation for Wellness Professionals.\n\nwww.wellnessspeakers.org
X-ALT-DESC;FMTTYPE=text/html:Are you suffering from any severe Neurolgical Problems like:\n<br>Fibromyalgia\, MS\, Failed Back/Neck Surgies\, Headache (Migraines)\, Numbness\, Burning\, Digestive Problems\, Nervousness\, Anxiety or any Chronic Intractable Pain?\n<br>This seminar may be able to help you get rid of your pain once and for all!\n<br>Presented on behalf of the non-profit group The Foundation for Wellness Professionals.\n<br>www.wellnessspeakers.org
LOCATION:Buehler's Community Room in the Buehler's Supermarket on Route 303 (Center Road) in Brunswick\, Ohio.
UID:e.160.1659
SEQUENCE:3
DTSTAMP:20260424T010941Z
URL:https://members.nmccalliance.com/events/details/event-at-healthsource-chiropractic-and-progressive-rehab-02-12-2011-1659
END:VEVENT

END:VCALENDAR
