BEGIN:VCALENDAR
VERSION:2.0
PRODID:-//ChamberMaster//Event Calendar 2.0//EN
METHOD:PUBLISH
X-PUBLISHED-TTL:P3D
REFRESH-INTERVAL:P3D
CALSCALE:GREGORIAN
BEGIN:VEVENT
DTSTART;VALUE=DATE:20110208
DTEND;VALUE=DATE:20110211
TRANSP:TRANSPARENT
X-MICROSOFT-CDO-ALLDAYEVENT:TRUE
SUMMARY:Event at Tharo Systems Inc
DESCRIPTION:WestPack 2011 Trade Show
X-ALT-DESC;FMTTYPE=text/html:WestPack 2011 Trade Show
LOCATION:Anaheim\, CA
UID:e.160.1656
SEQUENCE:3
DTSTAMP:20260421T103133Z
URL:https://members.nmccalliance.com/events/details/event-at-tharo-systems-inc-02-08-2011-1656
END:VEVENT

END:VCALENDAR
