BEGIN:VCALENDAR
VERSION:2.0
PRODID:-//ChamberMaster//Event Calendar 2.0//EN
METHOD:PUBLISH
X-PUBLISHED-TTL:P3D
REFRESH-INTERVAL:P3D
CALSCALE:GREGORIAN
BEGIN:VEVENT
DTSTART;VALUE=DATE:20110316
DTEND;VALUE=DATE:20110318
TRANSP:TRANSPARENT
X-MICROSOFT-CDO-ALLDAYEVENT:TRUE
SUMMARY:Event at Tharo Systems Inc
DESCRIPTION:SouthPack 2011 Trade Show
X-ALT-DESC;FMTTYPE=text/html:SouthPack 2011 Trade Show
LOCATION:Orlando\, FL
UID:e.160.1657
SEQUENCE:3
DTSTAMP:20260423T234114Z
URL:https://members.nmccalliance.com/events/details/event-at-tharo-systems-inc-03-16-2011-1657
END:VEVENT

END:VCALENDAR
