BEGIN:VCALENDAR
VERSION:2.0
PRODID:-//ChamberMaster//Event Calendar 2.0//EN
METHOD:PUBLISH
X-PUBLISHED-TTL:P3D
REFRESH-INTERVAL:P3D
CALSCALE:GREGORIAN
BEGIN:VEVENT
DTSTART;VALUE=DATE:20110926
DTEND;VALUE=DATE:20110929
TRANSP:TRANSPARENT
X-MICROSOFT-CDO-ALLDAYEVENT:TRUE
SUMMARY:Event at Tharo Systems Inc
DESCRIPTION:Pack Expo 2011 Trade Show
X-ALT-DESC;FMTTYPE=text/html:Pack Expo 2011 Trade Show
LOCATION:Las Vegas\, NV
UID:e.160.1658
SEQUENCE:3
DTSTAMP:20260423T132059Z
URL:https://members.nmccalliance.com/events/details/event-at-tharo-systems-inc-09-26-2011-1658
END:VEVENT

END:VCALENDAR
