BEGIN:VCALENDAR
VERSION:2.0
PRODID:-//ChamberMaster//Event Calendar 2.0//EN
METHOD:PUBLISH
X-PUBLISHED-TTL:P3D
REFRESH-INTERVAL:P3D
CALSCALE:GREGORIAN
BEGIN:VEVENT
DTSTART:20110126T143000Z
DTEND:20110126T180000Z
X-MICROSOFT-CDO-ALLDAYEVENT:FALSE
SUMMARY:Event at The Reserves Network Inc
DESCRIPTION:JOB FAIR sponsored by The Reserves Network
X-ALT-DESC;FMTTYPE=text/html:JOB FAIR sponsored by The Reserves Network 
LOCATION:Brunswick Area Chamber of Commerce office
UID:e.160.1630
SEQUENCE:3
DTSTAMP:20260424T020829Z
URL:https://members.nmccalliance.com/events/details/event-at-the-reserves-network-inc-01-26-2011-1630
END:VEVENT

END:VCALENDAR
