BEGIN:VCALENDAR
VERSION:2.0
PRODID:-//ChamberMaster//Event Calendar 2.0//EN
METHOD:PUBLISH
X-PUBLISHED-TTL:P3D
REFRESH-INTERVAL:P3D
CALSCALE:GREGORIAN
BEGIN:VEVENT
DTSTART:20140219T163000Z
DTEND:20140219T180000Z
X-MICROSOFT-CDO-ALLDAYEVENT:FALSE
SUMMARY:February 2014 Membership Meeting
DESCRIPTION:February Membership Meeting
X-ALT-DESC;FMTTYPE=text/html:<span style="font-size:20px\;"><span style="font-family:courier new\;">February Membership Meeting&nbsp\;</span></span>&nbsp\; &nbsp\;
LOCATION:Winking Lizard Center Road\, Brunswick
UID:e.160.2062
SEQUENCE:3
DTSTAMP:20260421T135710Z
URL:https://members.nmccalliance.com/events/details/february-2014-membership-meeting-02-19-2014-2062
END:VEVENT

END:VCALENDAR
