BEGIN:VCALENDAR
VERSION:2.0
PRODID:-//ChamberMaster//Event Calendar 2.0//EN
METHOD:PUBLISH
X-PUBLISHED-TTL:P3D
REFRESH-INTERVAL:P3D
CALSCALE:GREGORIAN
BEGIN:VEVENT
DTSTART:20110413T213000Z
DTEND:20110414T010000Z
X-MICROSOFT-CDO-ALLDAYEVENT:FALSE
SUMMARY:FREE College and Career Planning Expo
DESCRIPTION:Interested in returning to college or starting your career? Have you ever wanted to try Career Coaching? If so\, plan on attending the FREE College and Career Planning Expo on Wednesday\, April 13th\, at the Medina County University Center.\n\n\n\nThe expo will cover topics such as:\n\n- Career\, education\, and financial aid opportunities\n\n- Career Coaching sessions\n\n- Networking with local businesses/organization representatives at the Next Destination Reception\n\n\n\nR.S.V.P today for this FREE opportunity!! Contact Us today if you have more questions about the expo. Check in for the expo begins at 5:30 p.m. and workshops beginning at 6 p.m.\n\n\n\nRepresentatives from these businesses and organizations will be attending:\n\n- Lorain County Community College\n\n- Midpoint Campus Center\n\n- The University of Akron
X-ALT-DESC;FMTTYPE=text/html:Interested in returning to college or starting your career? Have you ever wanted to try Career Coaching? If so\, plan on attending the FREE College and Career Planning Expo on Wednesday\, April 13th\, at the Medina County University Center.\n<br>\n<br>The expo will cover topics such as:\n<br>- Career\, education\, and financial aid opportunities\n<br>- Career Coaching sessions\n<br>- Networking with local businesses/organization representatives at the Next Destination Reception\n<br>\n<br>R.S.V.P today for this FREE opportunity!! Contact Us today if you have more questions about the expo. Check in for the expo begins at 5:30 p.m. and workshops beginning at 6 p.m.\n<br>\n<br>Representatives from these businesses and organizations will be attending:\n<br>- Lorain County Community College\n<br>- Midpoint Campus Center\n<br>- The University of Akron
LOCATION:Medina County University Center 6300 Technology Lane\, Medina\, OH\, 44256
UID:e.160.1664
SEQUENCE:3
DTSTAMP:20260423T215803Z
URL:https://members.nmccalliance.com/events/details/free-college-and-career-planning-expo-04-13-2011-1664
END:VEVENT

END:VCALENDAR
