BEGIN:VCALENDAR
VERSION:2.0
PRODID:-//ChamberMaster//Event Calendar 2.0//EN
METHOD:PUBLISH
X-PUBLISHED-TTL:P3D
REFRESH-INTERVAL:P3D
CALSCALE:GREGORIAN
BEGIN:VEVENT
DTSTART:20090527T203000Z
DTEND:20090527T223000Z
X-MICROSOFT-CDO-ALLDAYEVENT:FALSE
SUMMARY:German American Business Center Business After Business
DESCRIPTION:German American Business CenterBusiness After BusinessJoin us for this Open House for the Chamber of CommerceMeet your local businesses
X-ALT-DESC;FMTTYPE=text/html:<p align="center"><font size="4">German American Business Center</font></p><p align="center"><font size="4">Business After Business</font></p><p align="center"><font size="4">Join us for this Open House for the Chamber of Commerce</font></p><p align="center"><font size="4">Meet your local businesses</font></p><p align="center">&nbsp\;</p>
LOCATION:German American Business CenterCenter Road\, Brunswick Ohio
UID:e.160.806
SEQUENCE:3
DTSTAMP:20260425T214752Z
URL:https://members.nmccalliance.com/events/details/german-american-business-center-business-after-business-05-27-2009-806
END:VEVENT

END:VCALENDAR
