BEGIN:VCALENDAR
VERSION:2.0
PRODID:-//ChamberMaster//Event Calendar 2.0//EN
METHOD:PUBLISH
X-PUBLISHED-TTL:P3D
REFRESH-INTERVAL:P3D
CALSCALE:GREGORIAN
BEGIN:VEVENT
DTSTART:20100519T160000Z
DTEND:20100519T160000Z
X-MICROSOFT-CDO-ALLDAYEVENT:FALSE
SUMMARY:Healthy Ohio Fitness Walk
DESCRIPTION:
X-ALT-DESC;FMTTYPE=text/html:
LOCATION:
UID:e.160.1074
SEQUENCE:3
DTSTAMP:20260425T025901Z
URL:https://members.nmccalliance.com/events/details/healthy-ohio-fitness-walk-05-19-2010-1074
END:VEVENT

END:VCALENDAR
