BEGIN:VCALENDAR
VERSION:2.0
PRODID:-//ChamberMaster//Event Calendar 2.0//EN
METHOD:PUBLISH
X-PUBLISHED-TTL:P3D
REFRESH-INTERVAL:P3D
CALSCALE:GREGORIAN
BEGIN:VEVENT
DTSTART:20110405T213000Z
DTEND:20110405T230000Z
X-MICROSOFT-CDO-ALLDAYEVENT:FALSE
SUMMARY:Informational Session - Greece & the Sunny Med Trip
DESCRIPTION:Has the snowy weather got you thinking about escaping to a warmer destination? The Brunswick Area Chamber of Commerce & Greater Medina Chamber of Commerce have you covered!\n\n \n\nCruise the beautiful\, deep blue Mediterranean Sea while looking at islands that could make anyone feel like they're living in a postcard.\n\nBask in the radiant Greek sunshine as you climb the ancient marble steps up to the Acropolis\, which overlooks the sprawling city of Athens.\n\nJog around the first modern Olympic stadium before taking a short walk to the Tomb of the Unknown Soldier to see the hourly changing of the guard.\n\n \n\nIf you'd like to experience all this and more\, join us for one of two informational meetings (details below)!  The trip is open everyone\, including non-chamber members so pass this information on to anyone who might be interested!
X-ALT-DESC;FMTTYPE=text/html:&nbsp\;Has the snowy weather got you thinking about escaping to a warmer destination? The Brunswick Area Chamber of Commerce &amp\; Greater Medina Chamber of Commerce have you covered!<br />\n&nbsp\;<br />\nCruise the beautiful\, deep blue Mediterranean Sea while looking at islands that could make anyone feel like they&rsquo\;re living in a postcard.<br />\nBask in the radiant Greek sunshine as you climb the ancient marble steps up to the Acropolis\, which overlooks the sprawling city of Athens.<br />\nJog around the first modern Olympic stadium before taking a short walk to the Tomb of the Unknown Soldier to see the hourly changing of the guard.<br />\n&nbsp\;<br />\nIf you&rsquo\;d like to experience all this and more\, join us for one of two informational meetings (details below)! &nbsp\;The trip is open everyone\, including non-chamber members so pass this information on to anyone who might be interested!<br />\n
LOCATION:Midpoint Campus Center 50 Pearl Rd\, Ste. 300 Brunswick\, OH 44212
UID:e.160.1662
SEQUENCE:3
DTSTAMP:20260423T215542Z
URL:https://members.nmccalliance.com/events/details/informational-session-greece-the-sunny-med-trip-04-05-2011-1662
END:VEVENT

END:VCALENDAR
