BEGIN:VCALENDAR
VERSION:2.0
PRODID:-//ChamberMaster//Event Calendar 2.0//EN
METHOD:PUBLISH
X-PUBLISHED-TTL:P3D
REFRESH-INTERVAL:P3D
CALSCALE:GREGORIAN
BEGIN:VEVENT
DTSTART:20111218T180000Z
DTEND:20111218T190000Z
X-MICROSOFT-CDO-ALLDAYEVENT:FALSE
SUMMARY:Innovative Solutions for Maintaining the Home
DESCRIPTION:Save time and boost savings in and around your home\n\n	\n		\n			Discover ways of using OdoBan to disinfect surfaces and eliminate various types of odors\n	\n	\n		\n			Find out how EcoTouch insulation will improve energy efficiency and savings throughout your home\n	\n	\n		\n			Learn how to use the Husky 48-in-1 ratcheting rotary socket and the Dremel Saw-Max
X-ALT-DESC;FMTTYPE=text/html:<h1>\n	<u>Save time and boost savings in and around your home</u></h1>\n<ul>\n	<li>\n		<h3>\n			Discover ways of using OdoBan to disinfect surfaces and eliminate various types of odors</h3>\n	</li>\n	<li>\n		<h3>\n			Find out how EcoTouch insulation will improve energy efficiency and savings throughout your home</h3>\n	</li>\n	<li>\n		<h3>\n			Learn how to use the Husky 48-in-1 ratcheting rotary socket and the Dremel Saw-Max</h3>\n	</li>\n</ul>\n
LOCATION:Brunswick Home Depot 3330 Center Road Brunswick\, OH 44212
UID:e.160.1698
SEQUENCE:3
DTSTAMP:20260423T100223Z
URL:https://members.nmccalliance.com/events/details/innovative-solutions-for-maintaining-the-home-12-18-2011-1698
END:VEVENT

END:VCALENDAR
