BEGIN:VCALENDAR
VERSION:2.0
PRODID:-//ChamberMaster//Event Calendar 2.0//EN
METHOD:PUBLISH
X-PUBLISHED-TTL:P3D
REFRESH-INTERVAL:P3D
CALSCALE:GREGORIAN
BEGIN:VEVENT
DTSTART:20130521T140000Z
DTEND:20130521T180000Z
X-MICROSOFT-CDO-ALLDAYEVENT:FALSE
SUMMARY:Job & Career Fair
DESCRIPTION:The Brunswick Area Chamber of Commerce\, in conjunction with the City of Brunswick and Medina Works\, is pleased to announce a Job and Career Fair\, May 21\, 2012. The event will be held at the Brunswick Community Recreation and Fitness Center\, 3637 Center Road from 10:00 AM to 2:00 PM.\n\n	 \n\n	The goal for the Brunswick Area Chamber of Commerce and the City of Brunswick is to assist local businesses with job recruitment for qualified local residents who are looking for temporary or full time employment. This event is free to those looking for work.\n\n	 \n\n	Due to the space limitations\, we are able to accommodate businesses with the following: Businesses offering full time or part time employment positions Businesses that maintain a business office Businesses offering salary positions\, hourly positions\, or commission based positions with hourly base incentives\n\n	 \n\n	Businesses looking to participate in the event will need to submit an application to the Chamber office with payment ($15 for Chamber members\, $25 for non members) Applications can be downloaded from the Chamber website (www.BrunswickAreaChamber.org) under the "Community Information" tab.\n\n	 \n\n	Applications can be sent to melissa@brunswickareachamber.org  \n\n	Please call 330-225-8411 with any questions.
X-ALT-DESC;FMTTYPE=text/html:<div style="font-family: Arial\; font-size: 13px\; text-align: left\; ">\n	<span style="font-size: 12px\; "><span style="font-family: arial\, helvetica\, sans-serif\; ">The Brunswick Area Chamber of Commerce\, in conjunction with the City of Brunswick and Medina Works\, is pleased to announce a Job and Career Fair\, May 21\, 2012. The event will be held at the Brunswick Community Recreation and Fitness Center\, 3637 Center Road from 10:00 AM to 2:00 PM.</span></span><br />\n	&nbsp\;</div>\n<div style="font-family: Arial\; font-size: 13px\; text-align: left\; ">\n	<span style="font-size: 12px\; "><span style="font-family: arial\, helvetica\, sans-serif\; ">The goal for the Brunswick Area Chamber of Commerce and the City of Brunswick is to assist local businesses with job recruitment for qualified local residents who are looking for temporary or full time employment. This event is free to those looking for work.</span></span><br />\n	&nbsp\;</div>\n<div style="font-family: Arial\; font-size: 13px\; text-align: left\; ">\n	<span style="font-size: 12px\; "><span style="font-family: arial\, helvetica\, sans-serif\; ">Due to the space limitations\, we are able to accommodate businesses with the following: Businesses offering full time or part time employment positions Businesses that maintain a business office Businesses offering salary positions\, hourly positions\, or commission based positions with hourly base incentives</span></span><br />\n	&nbsp\;</div>\n<div style="font-family: Arial\; font-size: 13px\; text-align: left\; ">\n	<span style="font-size: 12px\; "><span style="font-family: arial\, helvetica\, sans-serif\; ">Businesses looking to participate in the event will need to submit an application to the Chamber office with payment ($15 for Chamber members\, $25 for non members) Applications can be downloaded from the Chamber website (<u><a href="http://www.brunswickareachamber.org/" style="text-decoration: none\; color: rgb(65\, 77\, 98)\; "><span style="color: rgb(0\, 0\, 255)\; ">www.BrunswickAreaChamber.org</span></a></u>) under the &ldquo\;Community Information&rdquo\; tab.</span></span><br />\n	&nbsp\;</div>\n<div style="font-family: Arial\; font-size: 13px\; text-align: left\; ">\n	<span style="font-size: 12px\; ">Applications can be sent to&nbsp\;<u><a href="mailto:melissa@brunswickareachamber.org?subject=Job%20%26%20Career%20Fair%20applications" style="text-decoration: none\; color: rgb(65\, 77\, 98)\; ">melissa@brunswickareachamber.org</a></u>&nbsp\;&nbsp\;<br />\n	Please call 330-225-8411 with any questions.</span></div>\n
LOCATION:Brunswick Community Recreation and Fitness Center 3637 Center Road Brunswick\, OH 44212
UID:e.160.1745
SEQUENCE:3
DTSTAMP:20260422T044011Z
URL:https://members.nmccalliance.com/events/details/job-career-fair-05-21-2013-1745
END:VEVENT

END:VCALENDAR
