BEGIN:VCALENDAR
VERSION:2.0
PRODID:-//ChamberMaster//Event Calendar 2.0//EN
METHOD:PUBLISH
X-PUBLISHED-TTL:P3D
REFRESH-INTERVAL:P3D
CALSCALE:GREGORIAN
BEGIN:VEVENT
DTSTART:20091016T140000Z
DTEND:20091016T180000Z
X-MICROSOFT-CDO-ALLDAYEVENT:FALSE
SUMMARY:Job & Career Fair
DESCRIPTION:2009 Job & Career Fair October 16\, 200910:00 am to 2:00 pmatThe Brunswick Recreation and Fitness Center Participating Companies:Aerotek\, Giant Eagle\, Buehler's Fresh Foods\, Columbia Chemical\, Edward Jones\, eInventory Now\, Falling Water Healthcare Center\, Flexhire\, ID Images\, LLC\, Inflatable Images\, Integrity Staffing Services\, KnowledgePoints\, LCCC/UA Midpoint Campus Center\, Liberty Ford-Brunswick\, Medina County Career Center\, Medina County Creative Housing\, New York Life Insurance Company\, Raphael's School of Beauty\, Safety-Kleen Systems\, Inc. SCORE\, Southwest General Health Center\, The Partners Financial Group - MetLife\, and The Reserves Network. Participating companies will be accepting job applications using Flexhire's "Text2Hire" system. We encourage you to pre-register by registering with Flexhire and completing a Universal Job Application\,. For more information on how to enhance your job search experience with the Text2Hire technology\, contact Flexhire at 1-877-840-4473 or info@flexhire.com
X-ALT-DESC;FMTTYPE=text/html:<div style="text-align: center"><span style="font-size: small">2009 Job &amp\; Career Fair</span></div><div style="text-align: center"><span style="font-size: small">&nbsp\;</span></div><div style="text-align: center"><span style="font-size: small">October 16\, 2009</span></div><div style="text-align: center"><span style="font-size: small">10:00 am to 2:00 pm</span></div><div style="text-align: center"><span style="font-size: small">at</span></div><div style="text-align: center"><span style="font-size: small">The Brunswick Recreation and Fitness Center</span></div><div style="text-align: center">&nbsp\;</div><div style="text-align: center">Participating Companies:</div><div style="text-align: center">Aerotek\, Giant Eagle\, Buehler&rsquo\;s Fresh Foods\, Columbia Chemical\, Edward Jones\, eInventory Now\, Falling Water Healthcare Center\, Flexhire\, ID Images\, LLC\, Inflatable Images\, Integrity Staffing Services\, KnowledgePoints\, LCCC/UA Midpoint Campus Center\, Liberty Ford-Brunswick\, Medina County Career Center\, Medina County Creative Housing\, New York Life Insurance Company\, Raphael&rsquo\;s School of Beauty\, Safety-Kleen Systems\, Inc. SCORE\, Southwest General Health Center\, The Partners Financial Group - MetLife\,&nbsp\;and The Reserves Network.</div><div style="text-align: center">&nbsp\;</div><div style="text-align: center">Participating companies will be accepting job applications using Flexhire&rsquo\;s &quot\;Text2Hire&quot\; system.</div><div style="text-align: center">&nbsp\;</div><div style="text-align: center">We encourage you to pre-register by registering with Flexhire and completing a Universal Job Application\,.</div><div style="text-align: center">&nbsp\;</div><div style="text-align: center">For more information on how to enhance your job search experience with the Text2Hire technology\, contact Flexhire at 1-877-840-4473 or <a href="mailto:info@flexhire.com">info@flexhire.com</a></div><div style="text-align: center">&nbsp\;</div>
LOCATION:Brunswick Recreation and Fitness Center3637 Center Road\, Brunswick
UID:e.160.818
SEQUENCE:3
DTSTAMP:20260425T140835Z
URL:https://members.nmccalliance.com/events/details/job-career-fair-10-16-2009-818
END:VEVENT

END:VCALENDAR
