BEGIN:VCALENDAR
VERSION:2.0
PRODID:-//ChamberMaster//Event Calendar 2.0//EN
METHOD:PUBLISH
X-PUBLISHED-TTL:P3D
REFRESH-INTERVAL:P3D
CALSCALE:GREGORIAN
BEGIN:VEVENT
DTSTART;VALUE=DATE:20131106
DTEND;VALUE=DATE:20131207
TRANSP:TRANSPARENT
X-MICROSOFT-CDO-ALLDAYEVENT:TRUE
SUMMARY:JOB OPPORTUNITIES AT THE RESERVES NETWORK
DESCRIPTION:The Reserves Network has many job opportunities in the Medina County area from entry level with no experience required\, to  machine operators\, to maintenance technicians\, warehouse associates and office positions.   Please contact us at 330-273-2600 or visit our website to view all job openings and complete your application!   We look forward to hearing from you or someone you may know that is looking for a great job in a great community!
X-ALT-DESC;FMTTYPE=text/html:The Reserves Network has many job opportunities in the Medina County area from entry level with no experience required\, to&nbsp\; machine operators\, to maintenance technicians\, warehouse associates and office positions.&nbsp\;&nbsp\; Please contact us at 330-273-2600 or visit our website to view all job openings and complete your application!&nbsp\;&nbsp\; We look forward to hearing from you or someone you may know that is looking for a great job in a great community!&nbsp\; 
LOCATION:Medina County
UID:e.160.2019
SEQUENCE:3
DTSTAMP:20260421T171310Z
URL:https://members.nmccalliance.com/events/details/job-opportunities-at-the-reserves-network-11-06-2013-2019
END:VEVENT

END:VCALENDAR
