BEGIN:VCALENDAR
VERSION:2.0
PRODID:-//ChamberMaster//Event Calendar 2.0//EN
METHOD:PUBLISH
X-PUBLISHED-TTL:P3D
REFRESH-INTERVAL:P3D
CALSCALE:GREGORIAN
BEGIN:VEVENT
DTSTART:20140618T153000Z
DTEND:20140618T170000Z
X-MICROSOFT-CDO-ALLDAYEVENT:FALSE
SUMMARY:June 2014 Membership Meeting
DESCRIPTION:100 Tips in 100 Days:\n\n100 Ways to Communicate Your Competitive Edge\n\n \n\nYou have a competitive edge\; do you communicate your edge\, your value on a daily basis?\n\nDo you know how to protect that edge in everyday life\, the business world and public speaking? Are you using communication to get results\, to move your agenda forward?\n\nThis powerful keynote will include:\n\n\n	How to choose your seat at a meeting\n	Influence regardless of your title\n	Parts of a speech to memorize\n	How to open with a wow\n	How to own the podium\n	When/where to practice\n\n\nLearn how to use your communication skills to help you navigate your journey to use your voice to get results\, move your agenda forward\, and communicate your competitive edge.
X-ALT-DESC;FMTTYPE=text/html:<h3 style="margin: 0px 10px\; padding-bottom: 5px\; font-size: 18px\; font-weight: bold\; color: rgb(0\, 0\, 0)\; font-family: 'Times New Roman'\, Arial\, Helvetica\, sans-serif\; line-height: normal\;">100 Tips in 100 Days:</h3>\n\n<h4 style="margin: 0px 10px\; padding: 5px\; font-size: 16px\; font-weight: bold\; color: rgb(0\, 0\, 0)\; font-family: 'Times New Roman'\, Arial\, Helvetica\, sans-serif\; line-height: normal\;">100 Ways to Communicate Your Competitive Edge</h4>\n\n<p style="margin: 0px 10px\; padding: 5px\; font-size: 14px\; color: rgb(0\, 0\, 0)\; font-family: 'Times New Roman'\, Arial\, Helvetica\, sans-serif\; line-height: normal\;">&nbsp\;</p>\n\n<p style="margin: 0px 10px\; padding: 5px\; font-size: 14px\; color: rgb(0\, 0\, 0)\; font-family: 'Times New Roman'\, Arial\, Helvetica\, sans-serif\; line-height: normal\;">You have a competitive edge\; do you communicate your edge\, your value on a daily basis?</p>\n\n<p style="margin: 0px 10px\; padding: 5px\; font-size: 14px\; color: rgb(0\, 0\, 0)\; font-family: 'Times New Roman'\, Arial\, Helvetica\, sans-serif\; line-height: normal\;">Do you know how to protect that edge in everyday life\, the business world and public speaking? Are you using communication to get results\, to move your agenda forward?</p>\n\n<p style="margin: 0px 10px\; padding: 5px\; font-size: 14px\; color: rgb(0\, 0\, 0)\; font-family: 'Times New Roman'\, Arial\, Helvetica\, sans-serif\; line-height: normal\;">This powerful keynote will include:</p>\n\n<ul style="list-style-type: square\; color: rgb(0\, 0\, 0)\; font-family: 'Times New Roman'\, Arial\, Helvetica\, sans-serif\; font-size: 14px\; line-height: normal\;">\n	<li>How to choose your seat at a meeting</li>\n	<li>Influence regardless of your title</li>\n	<li>Parts of a speech to memorize</li>\n	<li>How to open with a wow</li>\n	<li>How to own the podium</li>\n	<li>When/where to practice</li>\n</ul>\n\n<p style="margin: 0px 10px\; padding: 5px\; font-size: 14px\; color: rgb(0\, 0\, 0)\; font-family: 'Times New Roman'\, Arial\, Helvetica\, sans-serif\; line-height: normal\;">Learn how to use your communication skills to help you navigate your journey to use your voice to get results\, move your agenda forward\, and communicate your competitive edge.</p>\n
LOCATION:Winking Lizard 3634 Center Road Brunswick\, Ohio 44212
UID:e.160.1974
SEQUENCE:3
DTSTAMP:20260421T083913Z
URL:https://members.nmccalliance.com/events/details/june-2014-membership-meeting-06-18-2014-1974
END:VEVENT

END:VCALENDAR
