BEGIN:VCALENDAR
VERSION:2.0
PRODID:-//ChamberMaster//Event Calendar 2.0//EN
METHOD:PUBLISH
X-PUBLISHED-TTL:P3D
REFRESH-INTERVAL:P3D
CALSCALE:GREGORIAN
BEGIN:VEVENT
DTSTART:20090327T220000Z
DTEND:20090328T010000Z
X-MICROSOFT-CDO-ALLDAYEVENT:FALSE
SUMMARY:Kickin' for a Cure
DESCRIPTION:Practical Martial Arts TeamKickin' for a Cure!Relay For Life!
X-ALT-DESC;FMTTYPE=text/html:<div>Practical Martial Arts Team</div><div>Kickin' for a Cure!</div><div>Relay For Life!</div><div>&nbsp\;</div>
LOCATION:Buddy's Pub & Grill2126 Pearl RoadBrunswick Hills\, OH 44212
UID:e.160.802
SEQUENCE:3
DTSTAMP:20260426T003609Z
URL:https://members.nmccalliance.com/events/details/kickin-for-a-cure-03-27-2009-802
END:VEVENT

END:VCALENDAR
