BEGIN:VCALENDAR
VERSION:2.0
PRODID:-//ChamberMaster//Event Calendar 2.0//EN
METHOD:PUBLISH
X-PUBLISHED-TTL:P3D
REFRESH-INTERVAL:P3D
CALSCALE:GREGORIAN
BEGIN:VEVENT
DTSTART:20090519T153000Z
DTEND:20090519T170000Z
X-MICROSOFT-CDO-ALLDAYEVENT:FALSE
SUMMARY:Ladies Luncheon Series
DESCRIPTION:Ladies Luncheon Series
X-ALT-DESC;FMTTYPE=text/html:Ladies Luncheon Series
LOCATION:Blue Heron Banquet Center
UID:e.160.805
SEQUENCE:3
DTSTAMP:20260425T214353Z
URL:https://members.nmccalliance.com/events/details/ladies-luncheon-series-05-19-2009-805
END:VEVENT

END:VCALENDAR
