BEGIN:VCALENDAR
VERSION:2.0
PRODID:-//ChamberMaster//Event Calendar 2.0//EN
METHOD:PUBLISH
X-PUBLISHED-TTL:P3D
REFRESH-INTERVAL:P3D
CALSCALE:GREGORIAN
BEGIN:VEVENT
DTSTART:20121205T160000Z
DTEND:20121205T180000Z
X-MICROSOFT-CDO-ALLDAYEVENT:FALSE
SUMMARY:Learn n' Lunch - December 2012
DESCRIPTION:Visiting with family\, buying gifts\, work commitments\, school projects\, the list goes on and on!\n\n\n\nAs wonderful as the hustle & bustle of the holidays is\, the end of the year can be stressful if you're strapped for time.\n\n\n\nLet the Chamber help!\n\n\n\nTake a couple hours of your busy schedule on Wednesday\, December 5 for a Learn n' Lunch about how to best manage your time so that you're able to have a relaxing and enjoyable holiday season.\n\n\n	Learn n' Lunch\n\n	Wednesday\, Deceomber 5\n\n	11am-1pm\n\n	BACC Office (1434 Town Center Blvd. C50\, Brunswick 44212)\n\n	\n\n	Speaker: Mike Briola\n\n	Topic: Time Management\n\n	\n\n	Cost to attend is $10 and a full lunch is included!
X-ALT-DESC;FMTTYPE=text/html:<span style="font-size:12px\;"><span style="font-family: arial\;">Visiting with family\, buying gifts\, work commitments\, school projects\, the list goes on and on!</span><br />\n<br />\nAs wonderful as the hustle &amp\; bustle of the holidays is\, the end of the year can be stressful if you&#39\;re strapped for time.<br />\n<br />\nLet the Chamber help!<br />\n<br />\nTake a couple hours of your busy schedule on Wednesday\, December 5 for a Learn n&#39\; Lunch about how to best manage your time so that you&#39\;re able to have a relaxing and enjoyable holiday season.</span><br />\n<p style="text-align: center\;">\n	<span style="font-size:14px\;">Learn n&#39\; Lunch<br />\n	Wednesday\, Deceomber 5<br />\n	11am-1pm<br />\n	BACC Office (1434 Town Center Blvd. C50\, Brunswick 44212)<br />\n	<br />\n	Speaker: Mike Briola<br />\n	Topic: Time Management<br />\n	<br />\n	Cost to attend is $10 and a full lunch is included!</span></p>\n
LOCATION:BACC Office 1434 Town Center Blvd. C50 Brunswick\, OH 44212
UID:e.160.1764
SEQUENCE:3
DTSTAMP:20260422T122946Z
URL:https://members.nmccalliance.com/events/details/learn-n-lunch-december-2012-12-05-2012-1764
END:VEVENT

END:VCALENDAR
