BEGIN:VCALENDAR
VERSION:2.0
PRODID:-//ChamberMaster//Event Calendar 2.0//EN
METHOD:PUBLISH
X-PUBLISHED-TTL:P3D
REFRESH-INTERVAL:P3D
CALSCALE:GREGORIAN
BEGIN:VEVENT
DTSTART:20110706T150000Z
DTEND:20110706T170000Z
X-MICROSOFT-CDO-ALLDAYEVENT:FALSE
SUMMARY:Learn n' Lunch - July 2011
DESCRIPTION:A lunch and an educational seminar in one!\n\n	\n\n	Speaker: Vicky Dolinsky of the United States Postal Service\n\n	\n\n	Topic: How to save money using free services from the United States Postal Service\n\n	\n\n	Lunch provided by Subway!
X-ALT-DESC;FMTTYPE=text/html:<p>\n	<span _fck_bookmark="1" style="display: none">&nbsp\;</span>A lunch and an educational seminar in one!<br />\n	<br />\n	Speaker: Vicky Dolinsky of the United States Postal Service<br />\n	<br />\n	Topic: How to save money using free services from the United States Postal Service<br />\n	<br />\n	Lunch provided by Subway!</p>\n
LOCATION:BACC Office 1434 Town Center Blvd. Ste. C50 Brunswick\, OH 44212
UID:e.160.1633
SEQUENCE:3
DTSTAMP:20260423T164603Z
URL:https://members.nmccalliance.com/events/details/learn-n-lunch-july-2011-07-06-2011-1633
END:VEVENT

END:VCALENDAR
