BEGIN:VCALENDAR
VERSION:2.0
PRODID:-//ChamberMaster//Event Calendar 2.0//EN
METHOD:PUBLISH
X-PUBLISHED-TTL:P3D
REFRESH-INTERVAL:P3D
CALSCALE:GREGORIAN
BEGIN:VEVENT
DTSTART:20110302T160000Z
DTEND:20110302T180000Z
X-MICROSOFT-CDO-ALLDAYEVENT:FALSE
SUMMARY:Learn n' Lunch - March 2011
DESCRIPTION:A lunch and an educational seminar in one!\n\n	\n\n	Lunch is provided by Savory Subs!
X-ALT-DESC;FMTTYPE=text/html:<p>\n	A lunch and an educational seminar in one!<br />\n	<br />\n	Lunch is provided by Savory Subs!</p>\n
LOCATION:BACC Office 1434 Town Center Blvd. Ste. C50 Brunswick\, OH 44212
UID:e.160.1614
SEQUENCE:3
DTSTAMP:20260423T233415Z
URL:https://members.nmccalliance.com/events/details/learn-n-lunch-march-2011-03-02-2011-1614
END:VEVENT

END:VCALENDAR
