BEGIN:VCALENDAR
VERSION:2.0
PRODID:-//ChamberMaster//Event Calendar 2.0//EN
METHOD:PUBLISH
X-PUBLISHED-TTL:P3D
REFRESH-INTERVAL:P3D
CALSCALE:GREGORIAN
BEGIN:VEVENT
DTSTART:20110504T150000Z
DTEND:20110504T170000Z
X-MICROSOFT-CDO-ALLDAYEVENT:FALSE
SUMMARY:Learn n' Lunch - May 2011
DESCRIPTION:A lunch and an educational seminar in one!\n\n	\n\n	Lunch will be provided by Heimatland Restaurant!\n\n	\n\n	Speaker: Natalie Morris\n\n	Topic: Online Marketing - What the heck is that?!
X-ALT-DESC;FMTTYPE=text/html:<p>\n	<span _fck_bookmark="1" style="display: none">&nbsp\;</span>A lunch and an educational seminar in one!<br />\n	<br />\n	<span style="font-size: 18px">Lunch will be provided by Heimatland Restaurant!</span><br />\n	<br />\n	<span style="font-size: 18px">Speaker: <a href="http://www.morrismc.com/index.htm">Natalie Morris</a><br />\n	<span style="font-size: 16px">Topic: Online Marketing - What the heck is that?!</span></span></p>\n
LOCATION:BACC Office 1434 Town Center Blvd. Ste. C50 Brunswick\, OH 44212
UID:e.160.1623
SEQUENCE:3
DTSTAMP:20260419T224116Z
URL:https://members.nmccalliance.com/events/details/learn-n-lunch-may-2011-05-04-2011-1623
END:VEVENT

END:VCALENDAR
