BEGIN:VCALENDAR
VERSION:2.0
PRODID:-//ChamberMaster//Event Calendar 2.0//EN
METHOD:PUBLISH
X-PUBLISHED-TTL:P3D
REFRESH-INTERVAL:P3D
CALSCALE:GREGORIAN
BEGIN:VEVENT
DTSTART:20111005T150000Z
DTEND:20111005T170000Z
X-MICROSOFT-CDO-ALLDAYEVENT:FALSE
SUMMARY:Learn n' Lunch - October 2011
DESCRIPTION:Food will be provided by The Grille.\n\n\n\n20 person maximum - sign up today!
X-ALT-DESC;FMTTYPE=text/html:Food will be provided by The Grille.<br />\n<br />\n20 person maximum - sign up today!
LOCATION:BACC Office/COSE Business Space 1434 Town Center Blvd. Ste. C50 Brunswick\, OH 44212
UID:e.160.1639
SEQUENCE:3
DTSTAMP:20260420T024059Z
URL:https://members.nmccalliance.com/events/details/learn-n-lunch-october-2011-10-05-2011-1639
END:VEVENT

END:VCALENDAR
