BEGIN:VCALENDAR
VERSION:2.0
PRODID:-//ChamberMaster//Event Calendar 2.0//EN
METHOD:PUBLISH
X-PUBLISHED-TTL:P3D
REFRESH-INTERVAL:P3D
CALSCALE:GREGORIAN
BEGIN:VEVENT
DTSTART:20091021T230000Z
DTEND:20091022T010000Z
X-MICROSOFT-CDO-ALLDAYEVENT:FALSE
SUMMARY:Local Candidate's Forum
DESCRIPTION:
X-ALT-DESC;FMTTYPE=text/html:
LOCATION:Brunswick Community Recreation & Fitness Center3637 Center Road\, Brunswick
UID:e.160.817
SEQUENCE:3
DTSTAMP:20260425T140802Z
URL:https://members.nmccalliance.com/events/details/local-candidate-s-forum-10-21-2009-817
END:VEVENT

END:VCALENDAR
