BEGIN:VCALENDAR
VERSION:2.0
PRODID:-//ChamberMaster//Event Calendar 2.0//EN
METHOD:PUBLISH
X-PUBLISHED-TTL:P3D
REFRESH-INTERVAL:P3D
CALSCALE:GREGORIAN
BEGIN:VEVENT
DTSTART:20120307T160000Z
DTEND:20120307T180000Z
X-MICROSOFT-CDO-ALLDAYEVENT:FALSE
SUMMARY:Lunch n' Learn - March 2012
DESCRIPTION:Topic: How to Improve Your Health Numbers!\n\n	\n\n	$10 to attend\, lunch included!\n\n	\n\n	Brunswick Family Health Center (Cleveland Clinic) - 2nd Floor\n\n	3574 Center Road\n\n	Brunswick\, OH 44212\n\n	\n\n	Wednesday\, March 7\, 2012\n\n	11:00am-1pm\n\n	\n\n	Sponsor:\n\n	Medina Hospital Company Health
X-ALT-DESC;FMTTYPE=text/html:<p style="text-align: center">\n	<br />\n	<span style="font-size: 16px"><strong><span style="font-size: 18px">Topic: How to Improve Your Health Numbers!</span></strong><br />\n	<br />\n	$10 to attend\, lunch included!<br />\n	<br />\n	<strong>Brunswick Family Health Center (Cleveland Clinic) - </strong><font size="3"><strong>2nd Floor</strong><br />\n	3574&nbsp\;Center Road</font><br />\n	Brunswick\, OH 44212<br />\n	<br />\n	Wednesday\, March 7\, 2012<br />\n	11:00am-1pm<br />\n	<br />\n	<span style="font-size: 18px">Sponsor:<br />\n	<a href="http://my.clevelandclinic.org/locations_directions/regional-locations/medina-hospital/specialties/company-health-care.aspx">Medina Hospital Company Health</a></span></span></p>\n
LOCATION:Brunswick Family Health Center (Cleveland Clinic) - 2nd Floor 3574 Center Road Brunswick\, OH 44212
UID:e.160.1722
SEQUENCE:3
DTSTAMP:20260421T083123Z
URL:https://members.nmccalliance.com/events/details/lunch-n-learn-march-2012-03-07-2012-1722
END:VEVENT

END:VCALENDAR
