BEGIN:VCALENDAR
VERSION:2.0
PRODID:-//ChamberMaster//Event Calendar 2.0//EN
METHOD:PUBLISH
X-PUBLISHED-TTL:P3D
REFRESH-INTERVAL:P3D
CALSCALE:GREGORIAN
BEGIN:VEVENT
DTSTART:20120905T150000Z
DTEND:20120905T170000Z
X-MICROSOFT-CDO-ALLDAYEVENT:FALSE
SUMMARY:Lunch n' Learn - September 2012
DESCRIPTION:A lunch and an educational seminar in one!\n\n	\n\n	Bring your laptop/tablet in for this interactive learning lab. An expert will be on hand to help you get your business on Facebook\, LinkedIn\, YouTube\, and more!\n\n	\n\n	Both beginners and those experienced in social media are welcome and encouraged to attend. Our expert can help get your business on a variety of social media platforms\, as well as teach you how to manage\, monitor\, and analyze your accounts.\n\n	\n\n	This is a hands-on session\, so come prepared to have your business go social!\n\n	\n\n	Expert: Faith Boone\, Social Media Strategist for Stevens Strategic Communications\, Inc.\n\n	\n\n	$10 to attend\, lunch will be provided
X-ALT-DESC;FMTTYPE=text/html:<p>\n	<span _fck_bookmark="1" style="display: none">&nbsp\;</span><span style="font-size:14px\;">A lunch and an educational seminar in one!<br />\n	<br />\n	<span style="font-family: arial\;">Bring your laptop/tablet in for this interactive learning lab. An expert will be on hand to help you get your business on Facebook\, LinkedIn\, YouTube\, and more!<br />\n	<br />\n	Both beginners and those experienced in social media are welcome and encouraged to attend. Our expert can help get your business on a variety of social media platforms\, as well as teach you how to manage\, monitor\, and analyze your accounts.<br />\n	<br />\n	This is a hands-on session\, so come prepared to have your business go social!<br />\n	<br />\n	Expert: Faith Boone\, Social Media Strategist for <a href="http://www.stevensstrategic.com/">Stevens Strategic Communications\, Inc.</a><br />\n	<br />\n	$10 to attend\, lunch will be provided</span></span><br />\n	&nbsp\;</p>\n
LOCATION:BACC Office 1434 Town Center Blvd. Ste. C50 Brunswick\, OH 44212
UID:e.160.1732
SEQUENCE:3
DTSTAMP:20260422T173011Z
URL:https://members.nmccalliance.com/events/details/lunch-n-learn-september-2012-09-05-2012-1732
END:VEVENT

END:VCALENDAR
