BEGIN:VCALENDAR
VERSION:2.0
PRODID:-//ChamberMaster//Event Calendar 2.0//EN
METHOD:PUBLISH
X-PUBLISHED-TTL:P3D
REFRESH-INTERVAL:P3D
CALSCALE:GREGORIAN
BEGIN:VEVENT
DTSTART:20100721T113000Z
DTEND:20100721T130000Z
X-MICROSOFT-CDO-ALLDAYEVENT:FALSE
SUMMARY:Mapleside Farms Chamber Breakfast
DESCRIPTION:Catered by Mapleside Farms and Mapleside Farms Breakfast:  7:30 AM to 8:00 AMProgram:    8:00 AM to 9:00 AM Speaker: Mary Kay Milewski\, M.A. on integenerational issues at the workplace
X-ALT-DESC;FMTTYPE=text/html:<div>Catered by Mapleside&nbsp\;Farms and Mapleside Farms</div><div>&nbsp\;</div><div>Breakfast:&nbsp\; 7:30 AM to 8:00 AM</div><div>Program:&nbsp\;&nbsp\;&nbsp\; 8:00 AM to 9:00 AM</div><div>&nbsp\;</div><div>Speaker: Mary Kay Milewski\, M.A. on integenerational issues at the workplace</div>
LOCATION:Mapleside Farms294 Pearl RdBrunswick OH 44212
UID:e.160.1043
SEQUENCE:3
DTSTAMP:20260424T235216Z
URL:https://members.nmccalliance.com/events/details/mapleside-farms-chamber-breakfast-07-21-2010-1043
END:VEVENT

END:VCALENDAR
