BEGIN:VCALENDAR
VERSION:2.0
PRODID:-//ChamberMaster//Event Calendar 2.0//EN
METHOD:PUBLISH
X-PUBLISHED-TTL:P3D
REFRESH-INTERVAL:P3D
CALSCALE:GREGORIAN
BEGIN:VEVENT
DTSTART:20101108T230000Z
DTEND:20101109T010000Z
X-MICROSOFT-CDO-ALLDAYEVENT:FALSE
SUMMARY:Medina County Idol
DESCRIPTION:Got talent?\n\nAre you 16 years or older?\n\nThis is your chance to show everyone you can sing!\n\n\n\nNovember 8   6-8PM\n\nSing a capella in front of judges\n\n\n\nNovember 9\, 10\, or 11   6:00-8:30PM\n\nCallbacks based on November 8 competition.  Sing with instrumental accompaniment in front of judges. \n\nFinalists - attend rehearsals during Showcase week.\n\n\n\nNovember 19   8PM\n\nFinal performance during the 2010 "SPOTLIGHT SHOWCASE"\n\nAudience votes will determine the GRAND PRIZE WINNER - 4th Annual Medina County Idol
X-ALT-DESC;FMTTYPE=text/html:Got talent?<br />\nAre you 16 years or older?<br />\nThis is your chance to show everyone you can sing!<br />\n<br />\nNovember 8&nbsp\;&nbsp\; 6-8PM<br />\nSing a capella in front of judges<br />\n<br />\nNovember 9\, 10\, or 11&nbsp\;&nbsp\; 6:00-8:30PM<br />\nCallbacks based on November 8 competition.&nbsp\; Sing with instrumental accompaniment in front of judges.&nbsp\;<br />\nFinalists - attend rehearsals during Showcase week.<br />\n<br />\nNovember 19&nbsp\;&nbsp\; 8PM<br />\nFinal performance during the 2010 &quot\;SPOTLIGHT SHOWCASE&quot\;<br />\nAudience votes will determine the GRAND PRIZE WINNER - 4th Annual Medina County Idol
LOCATION:Auditions will be held in the Choral Room in the Medina County Administration Building. 144 North Broadway\, Medina\, OH 44256
UID:e.160.1295
SEQUENCE:3
DTSTAMP:20260424T173315Z
URL:https://members.nmccalliance.com/events/details/medina-county-idol-11-08-2010-1295
END:VEVENT

END:VCALENDAR
