BEGIN:VCALENDAR
VERSION:2.0
PRODID:-//ChamberMaster//Event Calendar 2.0//EN
METHOD:PUBLISH
X-PUBLISHED-TTL:P3D
REFRESH-INTERVAL:P3D
CALSCALE:GREGORIAN
BEGIN:VEVENT
DTSTART:20090424T113000Z
DTEND:20090424T133000Z
X-MICROSOFT-CDO-ALLDAYEVENT:FALSE
SUMMARY:Medina County Legislative Update
DESCRIPTION:Chambers of Commerce of Medina County\,Medina County Board of Realtors\,Medina County Economic Development Corporation\,andGrOW Grassroots of Westfield present:Medina County Legislative UpdateFeaturingState Senator\, Bob Gibbs\, 22nd DistrictState Representative\, William Batchelder\, 69th DistrictState Representative\, Dave Hall\, 97th DistrictFriday\, April 24\, 2009The Blair Center - Westfield Center7:30 am Breakfast 8:15 am Meeting
X-ALT-DESC;FMTTYPE=text/html:<p align="center"><font size="3">Chambers of Commerce of Medina County\,</font></p><p align="center"><font size="3">Medina County Board of Realtors\,</font></p><p align="center"><font size="3">Medina County Economic Development Corporation\,</font></p><p align="center"><font size="3">and</font></p><p align="center"><font size="3">GrOW Grassroots of Westfield present:</font></p><p align="center"><font size="4"><strong>Medina County Legislative Update</strong></font></p><p align="center"><font size="3">Featuring</font></p><p align="center"><font size="4"><strong>State Senator\, Bob Gibbs\, 22nd District</strong></font></p><p align="center"><font size="4"><strong>State Representative\, William Batchelder\, 69th District</strong></font></p><p align="center"><font size="4"><strong>State Representative\, Dave Hall\, 97th District</strong></font></p><p align="center"><font size="4">Friday\, April 24\, 2009</font></p><p align="center"><font size="4">The Blair Center - Westfield Center</font></p><p align="center"><font size="4">7:30 am Breakfast </font></p><p align="center"><font size="4">8:15 am Meeting</font></p><p align="center">&nbsp\;</p><p align="center">&nbsp\;</p><p align="center">&nbsp\;</p><p align="center">&nbsp\;</p><address>&nbsp\;</address>
LOCATION:The Blair Center - Westfield Center
UID:e.160.793
SEQUENCE:3
DTSTAMP:20260426T003659Z
URL:https://members.nmccalliance.com/events/details/medina-county-legislative-update-04-24-2009-793
END:VEVENT

END:VCALENDAR
