BEGIN:VCALENDAR
VERSION:2.0
PRODID:-//ChamberMaster//Event Calendar 2.0//EN
METHOD:PUBLISH
X-PUBLISHED-TTL:P3D
REFRESH-INTERVAL:P3D
CALSCALE:GREGORIAN
BEGIN:VEVENT
DTSTART:20100915T113000Z
DTEND:20100915T130000Z
X-MICROSOFT-CDO-ALLDAYEVENT:FALSE
SUMMARY:Medina Hospital Networking Breakfast
DESCRIPTION:Catered by Medina Hospital Breakfast:  7:30 AM to 8:00 AMProgram:    8:00 AM to 9:00 AM Speaker: Robert Stall on the new happenings at the Hospital
X-ALT-DESC;FMTTYPE=text/html:<div><div><div>Catered by Medina Hospital</div><div>&nbsp\;</div><div>Breakfast:&nbsp\; 7:30 AM to 8:00 AM</div><div>Program:&nbsp\;&nbsp\;&nbsp\; 8:00 AM to 9:00 AM</div><div>&nbsp\;</div><div>Speaker: Robert Stall on the new happenings at the Hospital</div></div></div>
LOCATION:Medina Hospital Conference Center Entrance A1000 East Washington StreetMedina OH 44212
UID:e.160.1286
SEQUENCE:3
DTSTAMP:20260424T202910Z
URL:https://members.nmccalliance.com/events/details/medina-hospital-networking-breakfast-09-15-2010-1286
END:VEVENT

END:VCALENDAR
