BEGIN:VCALENDAR
VERSION:2.0
PRODID:-//ChamberMaster//Event Calendar 2.0//EN
METHOD:PUBLISH
X-PUBLISHED-TTL:P3D
REFRESH-INTERVAL:P3D
CALSCALE:GREGORIAN
BEGIN:VEVENT
DTSTART:20211020T220000Z
DTEND:20211021T000000Z
X-MICROSOFT-CDO-ALLDAYEVENT:FALSE
SUMMARY:Meet your BCSD School Board Candidates
DESCRIPTION:This November we have 7 candidates for 3 school board positions.  Find out more about each of the candidates.  Hear firsthand why they are running and what their goals are for BCSD if elected. \n\n\n\nCarl DeForest\, City Manager\, will be the MC for the evening. Submit your questions during the event or prior using the link below:\n\nhttps://tinyurl.com/xje485uh\n\n(the deadline to submit early questions is Friday\, Oct. 15th
X-ALT-DESC;FMTTYPE=text/html:<span style="font-size:18px\;">This November we have 7 candidates for 3 school board positions.&nbsp\; Find out more about each of the candidates.&nbsp\; Hear firsthand why they are running and what their goals are for BCSD if elected.&nbsp\;<br />\n<br />\nCarl DeForest\, City Manager\, will be the MC for the evening. Submit your questions during the event or prior using the link below:<br />\n<a href="https://tinyurl.com/xje485uh">https://tinyurl.com/xje485uh</a><br />\n(the deadline to submit early questions is Friday\, Oct. 15th</span>
LOCATION:Brunswick Recreation Center 3637 Center Rd. Brunswick
UID:e.160.2912
SEQUENCE:3
DTSTAMP:20260419T210721Z
URL:https://members.nmccalliance.com/events/details/meet-your-bcsd-school-board-candidates-2912
END:VEVENT

END:VCALENDAR
