BEGIN:VCALENDAR
VERSION:2.0
PRODID:-//ChamberMaster//Event Calendar 2.0//EN
METHOD:PUBLISH
X-PUBLISHED-TTL:P3D
REFRESH-INTERVAL:P3D
CALSCALE:GREGORIAN
BEGIN:VEVENT
DTSTART:20220119T163000Z
DTEND:20220119T180000Z
X-MICROSOFT-CDO-ALLDAYEVENT:FALSE
SUMMARY:Member Meeting: Business Success Story-Goosefoot Acres: Home of Dandy Blend-POSTPONED
DESCRIPTION:Out of the multitude of caution due to the rapid rise in the spread of the latest COVID-19 variant\, NMCCA is cancelling and rescheduling the presentation this month (rescheduled date TBD).\n\n*******************************************************\n\n\n\nHow did a family from Medina County grow into one of the largest natural coffee alternative companies in the world? Second generation leader\, Karin Reale\, will share their journey from her father's early love for making plants edible with dandelion root to the eventual launch of Goosefoot Acres\, Inc. to help people learn how to use the resources nature provides.
X-ALT-DESC;FMTTYPE=text/html:<div style="margin: 0px\; padding: 0px\; border: 0px\; font-variant-numeric: inherit\; font-variant-east-asian: inherit\; font-stretch: inherit\; font-size: 12pt\; line-height: inherit\; font-family: Calibri\, Arial\, Helvetica\, sans-serif\; vertical-align: baseline\; background-color: rgb(255\, 255\, 255)\;"><span style="font-size:20px\;"><span style="margin: 0px\; padding: 0px\; border: 0px\; font-style: inherit\; font-variant: inherit\; font-weight: inherit\; font-stretch: inherit\; line-height: inherit\; font-family: inherit\; vertical-align: baseline\; color: inherit\;">Out of the multitude of caution due to the rapid rise in the spread of the latest COVID-19 variant\, NMCCA is cancelling and rescheduling the presentation this month (rescheduled date TBD).<br />\n*******************************************************<br />\n<br />\nHow did a family from Medina</span><span style="margin: 0px\; padding: 0px\; border: 0px\; font-style: inherit\; font-variant: inherit\; font-weight: inherit\; font-stretch: inherit\; line-height: inherit\; font-family: inherit\; vertical-align: baseline\; color: inherit\;">&nbsp\;County</span><span style="margin: 0px\; padding: 0px\; border: 0px\; font-style: inherit\; font-variant: inherit\; font-weight: inherit\; font-stretch: inherit\; line-height: inherit\; font-family: inherit\; vertical-align: baseline\; color: inherit\;"><span style="margin: 0px\; padding: 0px\; border: 0px\; font-style: inherit\; font-variant: inherit\; font-weight: inherit\; font-stretch: inherit\; line-height: inherit\; font-family: inherit\; vertical-align: baseline\; color: inherit\;">&nbsp\;</span>grow into one of the largest natural coffee alternative companies in the worl</span><span style="margin: 0px\; padding: 0px\; border: 0px\; font-style: inherit\; font-variant: inherit\; font-weight: inherit\; font-stretch: inherit\; line-height: inherit\; font-family: Calibri\, Helvetica\, sans-serif\; vertical-align: baseline\; color: inherit\;">d? Second generation leader\, Karin Reale\, will share their journey from her father&#39\;s early love</span><span style="margin: 0px\; padding: 0px\; border: 0px\; font-style: inherit\; font-variant: inherit\; font-weight: inherit\; font-stretch: inherit\; line-height: inherit\; font-family: Calibri\, Helvetica\, sans-serif\; vertical-align: baseline\; color: rgb(51\, 51\, 51) !important\;">&nbsp\;for making plants edible with dandelion root to the eventual launch of&nbsp\;Goosefoot Acres\, Inc. to help people learn how to use the resources nature provides.</span></span></div>\n\n<div>&nbsp\;</div>\n
LOCATION:Coppertop Golf Club 5740 Center Rd. Valley City\, OH
UID:e.160.2915
SEQUENCE:3
DTSTAMP:20260420T015329Z
URL:https://members.nmccalliance.com/events/details/member-meeting-business-success-story-goosefoot-acres-home-of-dandy-blend-postponed-2915
END:VEVENT

END:VCALENDAR
