BEGIN:VCALENDAR
VERSION:2.0
PRODID:-//ChamberMaster//Event Calendar 2.0//EN
METHOD:PUBLISH
X-PUBLISHED-TTL:P3D
REFRESH-INTERVAL:P3D
CALSCALE:GREGORIAN
BEGIN:VEVENT
DTSTART:20220420T153000Z
DTEND:20220420T170000Z
X-MICROSOFT-CDO-ALLDAYEVENT:FALSE
SUMMARY:Membership Luncheon:Business Success Story-Goosefoot Acres: Home of Dandy Blend
DESCRIPTION:Plum Creek Assisted Living is requesting everyone in attendance wear a mask to the event. Masks will be available at check-in.\n\n\n\nHow did a family from Medina County grow into one of the largest natural coffee alternative companies in the world? Second generation leader\, Karin Reale\, will share their journey from her father's early love for making plants edible with dandelion root to the eventual launch of Goosefoot Acres\, Inc. to help people learn how to use the resources nature provides.\n\n \n\nPlease note that No Shows will be billed. Cancellations must be received by our office by 2:00 pm the Monday before the event to receive a credit to your account
X-ALT-DESC;FMTTYPE=text/html:<div style="margin: 0px\; padding: 0px\; border: 0px\; font-variant-numeric: inherit\; font-variant-east-asian: inherit\; font-stretch: inherit\; font-size: 12pt\; line-height: inherit\; font-family: Calibri\, Arial\, Helvetica\, sans-serif\; vertical-align: baseline\; background-color: rgb(255\, 255\, 255)\;"><span style="font-family:verdana\;"><span style="font-size: 20px\;"><span style="color:#0000FF\;"><span style="margin: 0px\; padding: 0px\; border: 0px\; font-style: inherit\; font-variant: inherit\; font-weight: inherit\; font-stretch: inherit\; line-height: inherit\; vertical-align: baseline\;"><em><strong>Plum Creek Assisted Living is requesting everyone in attendance wear a mask to the event.&nbsp\;Masks will be available at check-in.</strong></em></span></span><br />\n<br />\n<span style="margin: 0px\; padding: 0px\; border: 0px\; font-style: inherit\; font-variant: inherit\; font-weight: inherit\; font-stretch: inherit\; line-height: inherit\; vertical-align: baseline\; color: inherit\;">How did a family from Medina</span><span style="margin: 0px\; padding: 0px\; border: 0px\; font-style: inherit\; font-variant: inherit\; font-weight: inherit\; font-stretch: inherit\; line-height: inherit\; vertical-align: baseline\; color: inherit\;">&nbsp\;County</span><span style="margin: 0px\; padding: 0px\; border: 0px\; font-style: inherit\; font-variant: inherit\; font-weight: inherit\; font-stretch: inherit\; line-height: inherit\; vertical-align: baseline\; color: inherit\;"><span style="margin: 0px\; padding: 0px\; border: 0px\; font-style: inherit\; font-variant: inherit\; font-weight: inherit\; font-stretch: inherit\; line-height: inherit\; vertical-align: baseline\; color: inherit\;">&nbsp\;</span>grow into one of the largest natural coffee alternative companies in the worl</span><span style="margin: 0px\; padding: 0px\; border: 0px\; font-style: inherit\; font-variant: inherit\; font-weight: inherit\; font-stretch: inherit\; line-height: inherit\; vertical-align: baseline\; color: inherit\;">d? Second generation leader\, Karin Reale\, will share their journey from her father&#39\;s early love</span><span style="margin: 0px\; padding: 0px\; border: 0px\; font-style: inherit\; font-variant: inherit\; font-weight: inherit\; font-stretch: inherit\; line-height: inherit\; vertical-align: baseline\; color: rgb(51\, 51\, 51) !important\;">&nbsp\;for making plants edible with dandelion root to the eventual launch of&nbsp\;Goosefoot Acres\, Inc. to help people learn how to use the resources nature provides.</span></span></span><br />\n&nbsp\;</div>\n\n<div><span style="font-family:verdana\;"><em><span style="font-size:12px\;">Please note that No Shows will be billed. Cancellations must be received by our office by 2:00 pm the Monday before the event to receive a credit to your account</span></em></span></div>\n
LOCATION:Plum Creek Assisted Living 891 Marks Road Brunswick\, OH 44212
UID:e.160.2948
SEQUENCE:3
DTSTAMP:20260420T072303Z
URL:https://members.nmccalliance.com/events/details/membership-luncheon-business-success-story-goosefoot-acres-home-of-dandy-blend-2948
END:VEVENT

END:VCALENDAR
